BEGIN:VCALENDAR
VERSION:2.0
PRODID:-//103.152.248.146//NONSGML kigkonsult.se iCalcreator 2.26.9//
CALSCALE:GREGORIAN
METHOD:PUBLISH
X-WR-CALNAME:Armadale Returned Services League Sub-Branch (WA)
X-WR-CALDESC:The price of liberty is eternal vigilance.
X-FROM-URL:https://www.armadalersl.com.au
X-WR-TIMEZONE:Australia/Perth
BEGIN:VTIMEZONE
TZID:Australia/Perth
X-LIC-LOCATION:Australia/Perth
BEGIN:STANDARD
DTSTART:20090329T030000
TZOFFSETFROM:+0900
TZOFFSETTO:+0800
TZNAME:AWST
END:STANDARD
END:VTIMEZONE
BEGIN:VEVENT
UID:ai1ec-728@www.armadalersl.com.au
DTSTAMP:20210226T201518Z
CATEGORIES:
CONTACT:
DESCRIPTION:
DTSTART;TZID=Australia/Perth:20210221T103000
DTEND;TZID=Australia/Perth:20210221T120000
SEQUENCE:0
SUMMARY:February General Meeting
URL:https://www.armadalersl.com.au/event/february-general-meeting/
X-COST-TYPE:free
END:VEVENT
END:VCALENDAR
